BEGIN:VCALENDAR
VERSION:2.0
PRODID:-//ChamberMaster//Event Calendar 2.0//EN
METHOD:PUBLISH
X-PUBLISHED-TTL:P3D
REFRESH-INTERVAL:P3D
CALSCALE:GREGORIAN
BEGIN:VEVENT
DTSTART:20220519T123000Z
DTEND:20220519T134500Z
X-MICROSOFT-CDO-ALLDAYEVENT:FALSE
SUMMARY:Coffee and Connections
DESCRIPTION:Coffee and Connections is an informal networking event designed to get you going in the morning. Meet other chamber members\, network and promote your business.  \n\n \n\nCoffee and pastries will be provided.
X-ALT-DESC;FMTTYPE=text/html:<span style="font-family: arial\;"><span style="color: black\;">Coffee and Connections is&nbsp\;an informal networking event designed to&nbsp\;</span></span><span style="font-family: arial\;"><span style="color: black\;">get you going in the morning. Meet other chamber members\, network and promote your business.&nbsp\;&nbsp\;</span><br />\n&nbsp\;</span><br />\n<font color="#000000">Coffee and pastries will be provided.</font>
LOCATION:Wesleyan Village 807 West Ave. Elyria\, OH 44035
UID:e.2375.2557
SEQUENCE:3
DTSTAMP:20260425T183047Z
URL:http://business.loraincountychamber.com/events/details/coffee-and-connections-2557
END:VEVENT

END:VCALENDAR
