BEGIN:VCALENDAR
VERSION:2.0
PRODID:-//ChamberMaster//Event Calendar 2.0//EN
METHOD:PUBLISH
X-PUBLISHED-TTL:P3D
REFRESH-INTERVAL:P3D
CALSCALE:GREGORIAN
BEGIN:VEVENT
DTSTART:20200323T130000Z
DTEND:20200323T193000Z
X-MICROSOFT-CDO-ALLDAYEVENT:FALSE
SUMMARY:Kids Spring Break Camp
DESCRIPTION:Row\, row\, row your boat to a FUN Kids Spring Break Camp with the Lorain Historical Society!\n\n \n\nCamp Opportunities:\n\nMarch 23 - March 27\; March 30 - April 3\; April 13 - April 17\n\nCamp runs Monday through Friday from 9:00 am - 3:30 pm\, with after care available\n\n \n\nJoin us for a boat load of fun!  We will play\, learn\, explore\, experiment and make new friends during our week-long camp.  Learn about local history in a fun and engaging way\, create crafts\, and get moving with music\, dance\, and yoga!  This camp is geared towards children from surrounding areas in grades Kindergarten - 4.\n\n \n\n$75 for 5 days of camp\, with discounts available for additional family members.  Breakfast and lunch provided.  Camp will be held at the Carnegie Center\, located at 329 W. 10th St.\, Lorain\, OH 44052.\n\n \n\nTo register\, or for more information\, contact:\n\nJenn McManamon\n\nChildren's Education & Curriculum Coordinator\n\njmcmanaamon@lorainhistory.org\n\n440-245-2563
X-ALT-DESC;FMTTYPE=text/html:<strong><span style="color:#262626"><span style="font-family:helvetica"><span style="font-size:14.0pt">Row\, row\, row your boat to a FUN Kids Spring Break Camp with the Lorain Historical Society!</span></span></span></strong><br />\n&nbsp\;<br />\n<strong><em><span style="color:#262626"><span style="font-family:helvetica"><span style="font-size:14.0pt">Camp Opportunities:</span></span></span></em></strong><br />\n<span style="color:#262626"><span style="font-family:helvetica"><span style="font-size:14.0pt">March 23 - March 27\; March 30 - April 3\; April 13 - April 17</span></span></span><br />\n<span style="color:#262626"><span style="font-family:helvetica"><span style="font-size:14.0pt">Camp runs Monday through Friday from 9:00 am - 3:30 pm\, with after care available</span></span></span><br />\n&nbsp\;<br />\n<span style="color:#262626"><span style="font-family:helvetica"><span style="font-size:14.0pt">Join us for a boat load of fun! &nbsp\;We will play\, learn\, explore\, experiment and make new friends during our week-long camp. &nbsp\;Learn about local history in a fun and engaging way\, create crafts\, and get moving with music\, dance\, and yoga! &nbsp\;This camp is geared towards children from surrounding areas in grades Kindergarten - 4.</span></span></span><br />\n&nbsp\;<br />\n<span style="color:#262626"><span style="font-family:helvetica"><span style="font-size:14.0pt">$75 for 5 days of camp\, with discounts available for additional family members. &nbsp\;Breakfast and lunch provided. &nbsp\;Camp will be held at the Carnegie Center\, located at 329 W. 10th St.\, Lorain\, OH 44052.</span></span></span><br />\n&nbsp\;<br />\n<strong><span style="color:#262626"><span style="font-family:helvetica"><span style="font-size:14.0pt">To register\, or for more information\, contact:</span></span></span></strong><br />\n<span style="color:#262626"><span style="font-family:helvetica"><span style="font-size:14.0pt">Jenn McManamon</span></span></span><br />\n<span style="color:#262626"><span style="font-family:helvetica"><span style="font-size:14.0pt">Children&#39\;s Education &amp\; Curriculum Coordinator</span></span></span><br />\n<span style="color:#262626"><span style="font-family:helvetica"><span style="font-size:14.0pt">jmcmanaamon@lorainhistory.org</span></span></span><br />\n<span style="color:#262626"><span style="font-family:helvetica"><span style="font-size:14.0pt">440-245-2563</span></span></span>
LOCATION:Lorain Historical Society Carnegie Center 329 W. 10th St. Lorain\, OH 44052
UID:e.2375.2257
SEQUENCE:3
DTSTAMP:20260421T082639Z
URL:http://business.loraincountychamber.com/events/details/kids-spring-break-camp-2257
END:VEVENT

END:VCALENDAR
