BEGIN:VCALENDAR
VERSION:2.0
PRODID:-//ChamberMaster//Event Calendar 2.0//EN
METHOD:PUBLISH
X-PUBLISHED-TTL:P3D
REFRESH-INTERVAL:P3D
CALSCALE:GREGORIAN
BEGIN:VEVENT
DTSTART;VALUE=DATE:20221003
DTEND;VALUE=DATE:20221004
TRANSP:TRANSPARENT
X-MICROSOFT-CDO-ALLDAYEVENT:TRUE
SUMMARY:Swing Fore Kids Golf Tournament
DESCRIPTION:Big Brothers Big Sisters of Lorain County is thrilled to announce our second annual Swing Fore Kids Golf Tournament to be held on October 3\, 2022\, at Red Tail Golf Club in Avon\, one of the regions most sought-after playgrounds for golf enthusiasts. Enjoy a perfect autumn day as you play this remarkably beautiful\, par 72 course designed by Robert Von Hagge\, one of the world's top course designers\, and at the same time help Big Brothers Big Sisters of Lorain County (BBBSLC). Your support allows BBBSLC to match a caring adult Mentor with a child in our community. The world is challenging and seems to be changing daily\, but a Mentor is a constant in a child's life that helps them maximize their potential. Every dollar raised from the Swing Fore Kids Golf Tournament goes to work right here in Lorain County. Registration for this 18-hole shotgun scramble tournament will open at 7:30am with light refreshments and an opportunity to warm up on the driving range. The tournament will begin at 9:00am. Mulligans and raffle tickets will be sold at the registration table and throughout the day. New for 2022   A HOLE IN ONE CONTEST .. The afternoon will culminate in a delicious lunch buffet.
X-ALT-DESC;FMTTYPE=text/html:Big Brothers Big Sisters of Lorain County is thrilled to announce our second annual Swing Fore Kids Golf Tournament to be held on October 3\, 2022\, at Red Tail Golf Club in Avon\, one of the regions most sought-after playgrounds for golf enthusiasts. Enjoy a perfect autumn day as you play this remarkably beautiful\, par 72 course designed by Robert Von Hagge\, one of the world&rsquo\;s top course designers\, and at the same time help Big Brothers Big Sisters of Lorain County (BBBSLC). Your support allows BBBSLC to match a caring adult Mentor with a child in our community. The world is challenging and seems to be changing daily\, but a Mentor is a constant in a child&rsquo\;s life that helps them maximize their potential. Every dollar raised from the Swing Fore Kids Golf Tournament goes to work right here in Lorain County. Registration for this 18-hole shotgun scramble tournament will open at 7:30am with light refreshments and an opportunity to warm up on the driving range. The tournament will begin at 9:00am. Mulligans and raffle tickets will be sold at the registration table and throughout the day. New for 2022 &ndash\; A HOLE IN ONE CONTEST&hellip\;.. The afternoon will culminate in a delicious lunch buffet.
LOCATION:Red Tail Golf Club 4400 Nagel Road Avon\, Ohio 44011
UID:e.2375.2600
SEQUENCE:3
DTSTAMP:20260421T221100Z
URL:http://business.loraincountychamber.com/events/details/swing-fore-kids-golf-tournament-2600
END:VEVENT

END:VCALENDAR
